{
 "currentVersion": 10.51,
 "serviceDescription": "Tile Cache Update Schedule: Weekly and as needed.Last Update: 07/24/2023source MXD: \\\\gisvm100\\gisprojects\\MapDocs\\GIS\\WebMapServices\\basemap_cached.mxd",
 "mapName": "BaseMap Layers",
 "description": "Collection of layers to form a Base Map for added map services.",
 "copyrightText": "Okaloosa Co GIS",
 "supportsDynamicLayers": true,
 "layers": [
  {
   "id": 111,
   "name": "BASEMAP_LABELS",
   "parentLayerId": -1,
   "defaultVisibility": true,
   "subLayerIds": [
    98,
    99,
    100,
    101,
    1102,
    1103,
    104
   ],
   "minScale": 800000,
   "maxScale": 400000
  },
  {
   "id": 98,
   "name": "CITY_LIMIT_Anno_Default",
   "parentLayerId": 111,
   "defaultVisibility": true,
   "subLayerIds": null,
   "minScale": 0,
   "maxScale": 0
  },
  {
   "id": 99,
   "name": "RIVERSAnno_Default",
   "parentLayerId": 111,
   "defaultVisibility": true,
   "subLayerIds": null,
   "minScale": 0,
   "maxScale": 100000
  },
  {
   "id": 100,
   "name": "RIVERSAnno_Stream",
   "parentLayerId": 111,
   "defaultVisibility": true,
   "subLayerIds": null,
   "minScale": 125000,
   "maxScale": 0
  },
  {
   "id": 101,
   "name": "RIVERSAnno_WB-Name",
   "parentLayerId": 111,
   "defaultVisibility": true,
   "subLayerIds": null,
   "minScale": 125000,
   "maxScale": 0
  },
  {
   "id": 1102,
   "name": "RIVERSAnno_Full Extent",
   "parentLayerId": 111,
   "defaultVisibility": true,
   "subLayerIds": null,
   "minScale": 0,
   "maxScale": 125001
  },
  {
   "id": 1103,
   "name": "WATER_BODIESAnno_Default",
   "parentLayerId": 111,
   "defaultVisibility": false,
   "subLayerIds": null,
   "minScale": 0,
   "maxScale": 0
  },
  {
   "id": 104,
   "name": "WATER_BODIESAnno_Non-Rivers",
   "parentLayerId": 111,
   "defaultVisibility": true,
   "subLayerIds": null,
   "minScale": 0,
   "maxScale": 0
  },
  {
   "id": 170,
   "name": "PROPERTY LAYERS",
   "parentLayerId": -1,
   "defaultVisibility": true,
   "subLayerIds": [
    1114,
    1,
    15,
    14,
    160
   ],
   "minScale": 0,
   "maxScale": 0
  },
  {
   "id": 1114,
   "name": "SITE ADDRESS",
   "parentLayerId": 170,
   "defaultVisibility": true,
   "subLayerIds": [
    106,
    1116
   ],
   "minScale": 2500.0000000001955,
   "maxScale": 0
  },
  {
   "id": 106,
   "name": "SITE ADDRESS complete",
   "parentLayerId": 1114,
   "defaultVisibility": true,
   "subLayerIds": null,
   "minScale": 5000,
   "maxScale": 0
  },
  {
   "id": 1116,
   "name": "SITE ADDRESS minimal",
   "parentLayerId": 1114,
   "defaultVisibility": true,
   "subLayerIds": null,
   "minScale": 5000,
   "maxScale": 0
  },
  {
   "id": 1,
   "name": "PARCEL ANNOTATION",
   "parentLayerId": 170,
   "defaultVisibility": true,
   "subLayerIds": [
    2,
    3,
    4,
    5,
    6,
    7,
    8,
    9,
    10,
    11
   ],
   "minScale": 1000.0000000001954,
   "maxScale": 0
  },
  {
   "id": 2,
   "name": "1- PARCEL LOT #",
   "parentLayerId": 1,
   "defaultVisibility": false,
   "subLayerIds": null,
   "minScale": 4801,
   "maxScale": 0
  },
  {
   "id": 3,
   "name": "2 - PARCEL BLOCK #",
   "parentLayerId": 1,
   "defaultVisibility": false,
   "subLayerIds": null,
   "minScale": 4801,
   "maxScale": 0
  },
  {
   "id": 4,
   "name": "4 - BLOCK #",
   "parentLayerId": 1,
   "defaultVisibility": false,
   "subLayerIds": null,
   "minScale": 0,
   "maxScale": 0
  },
  {
   "id": 5,
   "name": "5 - DIMENSION",
   "parentLayerId": 1,
   "defaultVisibility": true,
   "subLayerIds": null,
   "minScale": 2401,
   "maxScale": 0
  },
  {
   "id": 6,
   "name": "7 - SUBDIVISION #",
   "parentLayerId": 1,
   "defaultVisibility": false,
   "subLayerIds": null,
   "minScale": 0,
   "maxScale": 0
  },
  {
   "id": 7,
   "name": "6 - REMARKS",
   "parentLayerId": 1,
   "defaultVisibility": false,
   "subLayerIds": null,
   "minScale": 0,
   "maxScale": 0
  },
  {
   "id": 8,
   "name": "6 - LOT #",
   "parentLayerId": 1,
   "defaultVisibility": false,
   "subLayerIds": null,
   "minScale": 0,
   "maxScale": 0
  },
  {
   "id": 9,
   "name": "9 - CALC ACRE",
   "parentLayerId": 1,
   "defaultVisibility": false,
   "subLayerIds": null,
   "minScale": 0,
   "maxScale": 0
  },
  {
   "id": 10,
   "name": "12 - STREET REMARKS",
   "parentLayerId": 1,
   "defaultVisibility": false,
   "subLayerIds": null,
   "minScale": 0,
   "maxScale": 0
  },
  {
   "id": 11,
   "name": "8 - LEGAL ACRE",
   "parentLayerId": 1,
   "defaultVisibility": false,
   "subLayerIds": null,
   "minScale": 0,
   "maxScale": 0
  },
  {
   "id": 15,
   "name": "SUBDIVISION",
   "parentLayerId": 170,
   "defaultVisibility": true,
   "subLayerIds": null,
   "minScale": 8000,
   "maxScale": 0
  },
  {
   "id": 14,
   "name": "PARCELS",
   "parentLayerId": 170,
   "defaultVisibility": true,
   "subLayerIds": null,
   "minScale": 3000,
   "maxScale": 0
  },
  {
   "id": 160,
   "name": "PLATTED LOTS",
   "parentLayerId": 170,
   "defaultVisibility": true,
   "subLayerIds": null,
   "minScale": 1000,
   "maxScale": 0
  },
  {
   "id": 26,
   "name": "TRANSPORTATION",
   "parentLayerId": -1,
   "defaultVisibility": true,
   "subLayerIds": [
    29,
    140,
    31,
    190
   ],
   "minScale": 0,
   "maxScale": 0
  },
  {
   "id": 29,
   "name": "COUNTY MAINTAINED ROAD",
   "parentLayerId": 26,
   "defaultVisibility": true,
   "subLayerIds": null,
   "minScale": 60000.0000000006,
   "maxScale": 0
  },
  {
   "id": 140,
   "name": "MAJOR ROADS",
   "parentLayerId": 26,
   "defaultVisibility": true,
   "subLayerIds": null,
   "minScale": 0,
   "maxScale": 0
  },
  {
   "id": 31,
   "name": "SECONDARY ROADS",
   "parentLayerId": 26,
   "defaultVisibility": true,
   "subLayerIds": null,
   "minScale": 100000,
   "maxScale": 0
  },
  {
   "id": 190,
   "name": "RAILROAD",
   "parentLayerId": 26,
   "defaultVisibility": true,
   "subLayerIds": null,
   "minScale": 0,
   "maxScale": 0
  },
  {
   "id": 105,
   "name": "WATER FEATURES",
   "parentLayerId": -1,
   "defaultVisibility": true,
   "subLayerIds": [
    127,
    1101,
    1104
   ],
   "minScale": 0,
   "maxScale": 0
  },
  {
   "id": 127,
   "name": "WATER BODIES",
   "parentLayerId": 105,
   "defaultVisibility": true,
   "subLayerIds": [
    150,
    126
   ],
   "minScale": 0,
   "maxScale": 0
  },
  {
   "id": 150,
   "name": "NAMES",
   "parentLayerId": 127,
   "defaultVisibility": true,
   "subLayerIds": null,
   "minScale": 399999,
   "maxScale": 0
  },
  {
   "id": 126,
   "name": "SHADING",
   "parentLayerId": 127,
   "defaultVisibility": true,
   "subLayerIds": null,
   "minScale": 0,
   "maxScale": 0
  },
  {
   "id": 1101,
   "name": "RIVERS",
   "parentLayerId": 105,
   "defaultVisibility": true,
   "subLayerIds": null,
   "minScale": 0,
   "maxScale": 0
  },
  {
   "id": 1104,
   "name": "STREAMS, LAKES & PONDS",
   "parentLayerId": 105,
   "defaultVisibility": true,
   "subLayerIds": [
    102,
    103
   ],
   "minScale": 50000,
   "maxScale": 0
  },
  {
   "id": 102,
   "name": "STREAMS",
   "parentLayerId": 1104,
   "defaultVisibility": true,
   "subLayerIds": null,
   "minScale": 50000,
   "maxScale": 0
  },
  {
   "id": 103,
   "name": "LAKES & PONDS",
   "parentLayerId": 1104,
   "defaultVisibility": true,
   "subLayerIds": null,
   "minScale": 50000,
   "maxScale": 0
  },
  {
   "id": 93,
   "name": "ADMINISTRATIVE BOUNDARY",
   "parentLayerId": -1,
   "defaultVisibility": true,
   "subLayerIds": [
    94,
    130
   ],
   "minScale": 0,
   "maxScale": 0
  },
  {
   "id": 94,
   "name": "OKALOOSA COUNTY BOUNDARY",
   "parentLayerId": 93,
   "defaultVisibility": true,
   "subLayerIds": null,
   "minScale": 0,
   "maxScale": 0
  },
  {
   "id": 130,
   "name": "CITY LIMIT PolyFill",
   "parentLayerId": 93,
   "defaultVisibility": true,
   "subLayerIds": null,
   "minScale": 0,
   "maxScale": 0
  }
 ],
 "tables": [],
 "spatialReference": {
  "wkid": 102100,
  "latestWkid": 3857
 },
 "singleFusedMapCache": true,
 "tileInfo": {
  "rows": 256,
  "cols": 256,
  "dpi": 96,
  "format": "PNG",
  "compressionQuality": 0,
  "origin": {
   "x": -2.0037508342787E7,
   "y": 2.0037508342787E7
  },
  "spatialReference": {
   "wkid": 102100,
   "latestWkid": 3857
  },
  "lods": [
   {
    "level": 0,
    "resolution": 156543.03392800014,
    "scale": 5.91657527591555E8
   },
   {
    "level": 1,
    "resolution": 78271.51696399994,
    "scale": 2.95828763795777E8
   },
   {
    "level": 2,
    "resolution": 39135.75848200009,
    "scale": 1.47914381897889E8
   },
   {
    "level": 3,
    "resolution": 19567.87924099992,
    "scale": 7.3957190948944E7
   },
   {
    "level": 4,
    "resolution": 9783.93962049996,
    "scale": 3.6978595474472E7
   },
   {
    "level": 5,
    "resolution": 4891.96981024998,
    "scale": 1.8489297737236E7
   },
   {
    "level": 6,
    "resolution": 2445.98490512499,
    "scale": 9244648.868618
   },
   {
    "level": 7,
    "resolution": 1222.992452562495,
    "scale": 4622324.434309
   },
   {
    "level": 8,
    "resolution": 611.4962262813797,
    "scale": 2311162.217155
   },
   {
    "level": 9,
    "resolution": 305.74811314055756,
    "scale": 1155581.108577
   },
   {
    "level": 10,
    "resolution": 152.87405657041106,
    "scale": 577790.554289
   },
   {
    "level": 11,
    "resolution": 76.43702828507324,
    "scale": 288895.277144
   },
   {
    "level": 12,
    "resolution": 38.21851414253662,
    "scale": 144447.638572
   },
   {
    "level": 13,
    "resolution": 19.10925707126831,
    "scale": 72223.819286
   },
   {
    "level": 14,
    "resolution": 9.554628535634155,
    "scale": 36111.909643
   },
   {
    "level": 15,
    "resolution": 4.77731426794937,
    "scale": 18055.954822
   },
   {
    "level": 16,
    "resolution": 2.388657133974685,
    "scale": 9027.977411
   },
   {
    "level": 17,
    "resolution": 1.1943285668550503,
    "scale": 4513.988705
   },
   {
    "level": 18,
    "resolution": 0.5971642835598172,
    "scale": 2256.994353
   },
   {
    "level": 19,
    "resolution": 0.29858214164761665,
    "scale": 1128.497176
   },
   {
    "level": 20,
    "resolution": 0.14929107082380833,
    "scale": 564.248588
   },
   {
    "level": 21,
    "resolution": 0.07464553541190416,
    "scale": 282.124294
   },
   {
    "level": 22,
    "resolution": 0.03732276770595208,
    "scale": 141.062147
   },
   {
    "level": 23,
    "resolution": 0.01866138385297604,
    "scale": 70.5310735
   }
  ]
 },
 "initialExtent": {
  "xmin": -9698461.822501376,
  "ymin": 3578871.9829508173,
  "xmax": -9581085.128951073,
  "ymax": 3633187.4725152706,
  "spatialReference": {
   "cs": "pcs",
   "wkid": 102100
  }
 },
 "fullExtent": {
  "xmin": -9664128.52049281,
  "ymin": 3551484.08778908,
  "xmax": -9615418.430959634,
  "ymax": 3633187.4725152706,
  "spatialReference": {
   "cs": "pcs",
   "wkid": 102100
  }
 },
 "minScale": 577790.554289,
 "maxScale": 282.124294,
 "units": "esriMeters",
 "supportedImageFormatTypes": "PNG32,PNG24,PNG,JPG,DIB,TIFF,EMF,PS,PDF,GIF,SVG,SVGZ,BMP",
 "documentInfo": {
  "Title": "BaseMap_Cached_date.mxd",
  "Author": "Okaloosa County",
  "Comments": "A collection of layers to forming a Basemap for use in PW Cartegraph OMS software.",
  "Subject": "Basemap for PW Cartegraph OMS software",
  "Category": "",
  "AntialiasingMode": "None",
  "TextAntialiasingMode": "Force",
  "Keywords": "gis addresses"
 },
 "capabilities": "Map,Query,Data",
 "supportedQueryFormats": "JSON, AMF, geoJSON",
 "exportTilesAllowed": false,
 "supportsDatumTransformation": true,
 "maxRecordCount": 1000,
 "maxImageHeight": 4096,
 "maxImageWidth": 4096,
 "supportedExtensions": ""
}
